BEGIN:VCALENDAR
VERSION:2.0
PRODID:-//eventon.com NONSGML v1.0//EN
BEGIN:VEVENT
UID:69e57d592b5f1
DTSTAMP:20260420T011153
DTSTART:20260427T000000Z
DTEND:20260427T235900Z
LOCATION:
SUMMARY:Lintjesregen Gemeente Eersel
DESCRIPTION: Alleen voor genodigden. Een Koninklijke onderscheiding is er voor mensen die zich op een bijzondere of uitzonderlijke wijze verdienstelijk hebben gemaakt voor de samenleving. U kunt daarbij denken aan: - vrijwilligers die zich langdurig inzetten voor organisaties op het gebied van bijvoorbeeld sport\,  cultuur\,  religieus leven\,  natuur of pleegzorg -[..]
END:VEVENT
END:VCALENDAR