BEGIN:VCALENDAR
VERSION:2.0
PRODID:-//eventon.com NONSGML v1.0//EN
BEGIN:VEVENT
UID:69e5aa9eb68d2
DTSTAMP:20260420T042502
DTSTART:20260325T193000Z
DTEND:20260325T213000Z
LOCATION:
SUMMARY:AIC De Kempen
DESCRIPTION: Onzichtbaar lijden bij autisme ‘Ik voel me niet gehoord\,  niet gezien\,  niet serieus genomen! Mag ik zijn wie ik ben?’ Een Barbiepop met autisme. Is dat het toppunt van zichtbaar maken van autisme? Of zijn het stereotypen die beperkend werken in de beeldvorming rond autisme? Of brengt het juist een[..]
END:VEVENT
END:VCALENDAR