BEGIN:VCALENDAR
VERSION:2.0
PRODID:-//eventon.com NONSGML v1.0//EN
BEGIN:VEVENT
UID:69e5ed6114bb1
DTSTAMP:20260420T090953
DTSTART:20251215T183000Z
DTEND:20251215T213000Z
LOCATION:
SUMMARY:De Goede Hoop in Winterse Sferen
DESCRIPTION: Gratis entree\,  vrije inloop Locatie: Après-Ski Bar Muziekvereniging De Goede Hoop speelt vrolijke kerstklassiekers en sfeervolle wintermuziek. Kom langs\,  geniet van de muziek en proef de Après-Ski gezelligheid!
END:VEVENT
END:VCALENDAR